Workbook

Sheet About Non-GAAP Financials
B55: Updated | F55: 10.22.26

Sheet P&L
A2: Consolidated selected statements of operations (GAAP)
A3: (in millions) | AL3: Year ended
B4: 43190 | C4: 43281 | D4: 43373 | E4: 43465 | F4: 43555 | G4: 43646 | H4: 43738 | I4: 43830 | J4: 43921 | K4: 44012 | L4: 44104 | M4: 44196 | N4: 44286 | O4: 44377 | P4: 44469 | Q4: 44561 | R4: 44651 | S4: 44742 | T4: 44834 | U4: 44926 | V4: 45016 | W4: 45107 | X4: 45199 | Y4: 45291 | Z4: 45382 | AA4: 45473 | AB4: 45565 | AC4: 45657 | AD4: 45747 | AE4: 45838 | AF4: 45930 | AG4: 46022 | AH4: 46112 | AI4: 46203 | AJ4: 46295 | AL4: 43100 | AM4: 43465 | AN4: 43830 | AO4: 44196 | AP4: 44561 | AQ4: 44926 | AR4: 45291 | AS4: 45657 | AT4: 46022
B5: (Unaudited) | AL5: (Audited) | AM5: (Audited) | AN5: (Audited) | AO5: (Audited) | AP5: (Audited) | AQ5: (Audited) | AR5: (Audited) | AS5: (Audited) | AT5: (Audited)
A6: Revenue | B6: 316.3 | C6: 339.2 | D6: 360.3 | E6: 375.9 | F6: 385.6 | G6: 401.5 | H6: 428.2 | I6: 446 | J6: 455 | K6: 467.4 | L6: 487.4 | M6: 504.1 | N6: 511.6 | O6: 530.6 | P6: 550.2 | Q6: 565.5 | R6: 562.4 | S6: 572.7 | T6: 591 | U6: 598.8 | V6: 611.1 | W6: 622.5 | X6: 633 | Y6: 635 | Z6: 631.3 | AA6: 634.5 | AB6: 638.8 | AC6: 643.6 | AD6: 624.7 | AE6: 625.7 | AF6: 634.4 | AG6: 636.2 | AH6: 629.5 | AI6: 631.5 | AJ6: 637.3 | AL6: 1106.8 | AM6: 1391.7 | AN6: =SUM(F6:I6) -> 1661.3 | AO6: =SUM(J6:M6) -> 1913.9 | AP6: =SUM(N6:Q6) -> 2157.9 | AQ6: =SUM(R6:U6) -> 2324.9 | AR6: =SUM(V6:Y6) -> 2501.6 | AS6: =SUM(Z6:AC6) -> 2548.2 | AT6: =SUM(AD6:AG6) -> 2521
A7: Cost of revenue | B7: 120.6 | C7: 89.5 | D7: 90.2 | E7: 94.4 | F7: 98.4 | G7: 102.9 | H7: 104.8 | I7: 104.9 | J7: 103.1 | K7: 102.5 | L7: 103.2 | M7: 105.8 | N7: 109.3 | O7: 107.1 | P7: 112 | Q7: 115.8 | R7: 112.9 | S7: 105.8 | T7: 109.7 | U7: 115.8 | V7: 116.8 | W7: 120.1 | X7: 119.6 | Y7: 122 | Z7: 105.8 | AA7: 107 | AB7: 111.5 | AC7: 120.8 | AD7: 116.7 | AE7: 123.7 | AF7: 128.3 | AG7: 132.1 | AH7: 128.1 | AI7: 125 | AJ7: 123.6 | AL7: 368.9 | AM7: 394.7 | AN7: =SUM(F7:I7) -> 411 | AO7: =SUM(J7:M7) -> 414.6 | AP7: =SUM(N7:Q7) -> 444.2 | AQ7: =SUM(R7:U7) -> 444.2 | AR7: =SUM(V7:Y7) -> 478.5 | AS7: =SUM(Z7:AC7) -> 445.1 | AT7: =SUM(AD7:AG7) -> 500.8
A8: Gross profit | B8: 195.7 | C8: 249.7 | D8: 270.1 | E8: 281.5 | F8: =F6-F7 -> 287.2 | G8: =G6-G7 -> 298.6 | H8: =H6-H7 -> 323.4 | I8: =I6-I7 -> 341.1 | J8: =J6-J7 -> 351.9 | K8: =K6-K7 -> 364.9 | L8: =L6-L7 -> 384.2 | M8: =M6-M7 -> 398.3 | ... AJ8: =AJ6-AJ7 -> 513.7 | AL8: 737.9 | AM8: 997 | AN8: =AN6-AN7 -> 1250.3 | AO8: =AO6-AO7 -> 1499.3 | AP8: =AP6-AP7 -> 1713.7 | AQ8: =AQ6-AQ7 -> 1880.7 | AR8: =SUM(V8:Y8) -> 2023.1 | AS8: =AS6-AS7 -> 2103.1 | AT8: =AT6-AT7 -> 2020.2
A9: Operating expenses
A10: Research and development | B10: 378.5 | C10: 119.7 | D10: 133.2 | E10: 136.8 | F10: 150 | G10: 162.4 | H10: 172.8 | I10: 176.9 | J10: 181.8 | K10: 185.8 | L10: 183.3 | M10: 176.6 | N10: 181.2 | O10: 185.5 | P10: 187.3 | Q10: 201.9 | R10: 210.8 | S10: 215 | T10: 227.6 | U10: 238.5 | V10: 235.2 | W10: 262.8 | X10: 216.4 | Y10: 222.1 | Z10: 219.1 | AA10: 227.1 | AB10: 225.7 | AC10: 243 | AD10: 178.4 | AE10: 184.4 | AF10: 182.3 | AG10: 186.9 | AH10: 184.2 | AI10: 188.1 | AJ10: 185.4 | AL10: 380.3 | AM10: 768.2 | AN10: =SUM(F10:I10) -> 662.1 | AO10: =SUM(J10:M10) -> 727.5 | AP10: =SUM(N10:Q10) -> 755.9 | AQ10: =SUM(R10:U10) -> 891.9 | AR10: =SUM(V10:Y10) -> 936.5 | AS10: =SUM(Z10:AC10) -> 914.9 | AT10: =SUM(AD10:AG10) -> 732
A11: Sales and marketing | B11: 157 | C11: 87.4 | D11: 95 | E11: 100.2 | F11: 101.5 | G11: 107.3 | H11: 108.2 | I11: 106.3 | J11: 104.3 | K11: 102.8 | L11: 105.8 | M11: 109.9 | N11: 102.7 | O11: 100.8 | P11: 115.7 | Q11: 108.3 | R11: 95.7 | S11: 105 | T11: 103.6 | U11: 105.1 | V11: 119.2 | W11: 120.9 | X11: 106.3 | Y11: 119.6 | Z11: 108.8 | AA11: 112.5 | AB11: 110.5 | AC11: 128.9 | AD11: 92 | AE11: 87.8 | AF11: 91.5 | AG11: 98.6 | AH11: 86.9 | AI11: 89.8 | AJ11: 86.6 | AL11: 314 | AM11: 439.6 | AN11: =SUM(F11:I11) -> 423.3 | AO11: =SUM(J11:M11) -> 422.8 | AP11: =SUM(N11:Q11) -> 427.5 | AQ11: =SUM(R11:U11) -> 409.4 | AR11: =SUM(V11:Y11) -> 466 | AS11: =SUM(Z11:AC11) -> 460.7 | AT11: =SUM(AD11:AG11) -> 369.9
A12: General and administrative | B12: 126.1 | C12: 49.8 | D12: 50.8 | E12: 56.5 | F12: 57 | G12: 62.9 | H12: 61 | I12: 64.5 | J12: 39 | K12: 63.5 | L12: 65.1 | M12: 60.2 | N12: 58.6 | O12: 52.8 | P12: 57.9 | Q12: 55.3 | R12: 53.5 | S12: 55.3 | T12: 56.8 | U12: 57.3 | V12: 55.8 | W12: 60 | X12: 60 | Y12: 61.3 | Z12: 54.1 | AA12: 60.9 | AB12: 63.3 | AC12: 62.9 | AD12: 53.8 | AE12: 58.8 | AF12: 57.6 | AG12: 60.3 | AH12: 57.5 | AI12: 63.8 | AJ12: 66.5 | AL12: 157.3 | AM12: 283.2 | AN12: =SUM(F12:I12) -> 245.4 | AO12: =SUM(J12:M12) -> 227.8 | AP12: =SUM(N12:Q12) -> 224.6 | AQ12: =SUM(R12:U12) -> 222.9 | AR12: =SUM(V12:Y12) -> 237.1 | AS12: =SUM(Z12:AC12) -> 241.2 | AT12: =SUM(AD12:AG12) -> 230.5
A13: Net (gain) loss on real estate assets (1) | B13: 0 | C13: 0 | D13: 0 | E13: 0 | F13: 0 | G13: 0 | H13: 0 | I13: 0 | J13: 0 | K13: 0 | L13: 0 | M13: 398.2 | N13: 17.3 | O13: 0 | P13: 0 | Q13: 14 | R13: 0 | S13: 8.7 | T13: 4 | U13: 162.5 | V13: 0 | W13: 2.2 | X13: 0 | Y13: -157.4 | Z13: 0 | AA13: 0 | AB13: 0 | AC13: 0.1 | AD13: 0 | AE13: 2.6 | AF13: 0 | AG13: -3.9 | AH13: 0 | AI13: 0 | AJ13: 0 | AL13: 0 | AM13: 0 | AN13: 0 | AO13: =SUM(J13:M13) -> 398.2 | AP13: =SUM(N13:Q13) -> 31.3 | AQ13: =SUM(R13:U13) -> 175.2 | AR13: =SUM(V13:Y13) -> -155.2 | AS13: =SUM(Z13:AC13) -> 0.1 | AT13: =SUM(AD13:AG13) -> -1.3
A14: Total operating expenses | B14: 661.6 | C14: 256.9 | D14: 279 | E14: 293.5 | F14: =SUM(F10:F12) -> 308.5 | G14: =SUM(G10:G12) -> 332.6 | H14: =SUM(H10:H12) -> 342 | I14: =SUM(I10:I12) -> 347.7 | J14: =SUM(J10:J12) -> 325.1 | K14: =SUM(K10:K12) -> 352.1 | L14: =SUM(L10:L13) -> 354.2 | M14: =SUM(M10:M13) -> 744.9 | N14: =SUM(N10:N13) -> 359.8 | O14: =SUM(O10:O13) -> 339.1 | P14: =SUM(P10:P13) -> 360.9 | Q14: =SUM(Q10:Q13) -> 379.5 | R14: =SUM(R10:R13) -> 360 | S14: =SUM(S10:S13) -> 384 | ... AJ14: =SUM(AJ10:AJ13) -> 338.5 | AL14: 851.6 | AM14: 1491 | AN14: =SUM(AN10:AN12) -> 1330.8 | AO14: =SUM(AO10:AO13) -> 1776.3 | AP14: =SUM(AP10:AP13) -> 1439.3 | AQ14: =SUM(AQ10:AQ13) -> 1699.4 | AR14: =SUM(V14:Y14) -> 1484.4 | AS14: =SUM(AS10:AS13) -> 1616.9 | AT14: =SUM(AT10:AT13) -> 1331.1
A15: Income (loss) from operations | B15: -465.9 | C15: -7.2 | D15: -8.9 | E15: -12 | F15: =F8-F14 -> -21.3 | G15: =G8-G14 -> -34 | H15: =H8-H14 -> -18.6 | I15: =I8-I14 -> -6.6 | J15: =J8-J14 -> 26.8 | K15: =K8-K14 -> 12.8 | L15: =L8-L14 -> 30 | M15: -346.6 | N15: 42.5 | O15: =O8-O14 -> 84.4 | P15: =P8-P14 -> 77.3 | Q15: 70.2 | R15: 89.5 | S15: =S8-S14 -> 82.9 | T15: =T8-T14 -> 89.3 | U15: =U8-U14 -> -80.4 | V15: =V8-V14 -> 84.1 | W15: =W8-W14 -> 56.5 | X15: =X8-X14 -> 130.7 | Y15: =Y8-Y14 -> 267.4 | Z15: =Z8-Z14 -> 143.5 | ... AD15: =AD8-AD14 -> 183.8 | AE15: 168.4 | AF15: =AF8-AF14 -> 174.7 | AG15: =AG8-AG14 -> 162.2 | AH15: =AH8-AH14 -> 172.8 | AI15: =AI8-AI14 -> 164.8 | AJ15: =AJ8-AJ14 -> 175.2 | AL15: -113.7 | AM15: -494 | AN15: =AN8-AN14 -> -80.5 | AO15: =SUM(J15:M15) -> -277 | AP15: =SUM(N15:Q15) -> 274.4 | AQ15: =SUM(R15:U15) -> 181.3 | AR15: =SUM(V15:Y15) -> 538.7 | AS15: =SUM(Z15:AC15) -> 486.2 | AT15: =SUM(AD15:AG15) -> 689.1
A16: Interest (expense) income, net | B16: -1.2 | C16: 2 | D16: 2.4 | E16: 3.9 | F16: 3.7 | G16: 3.2 | H16: 3 | I16: 2.6 | J16: 2.4 | K16: 0.1 | L16: 0.1 | M16: -0.9 | N16: -1.2 | O16: -0.9 | P16: -1.7 | Q16: -1.4 | R16: -1.4 | S16: -0.5 | T16: 1.7 | U16: 3.5 | V16: 3.9 | W16: 3.7 | X16: 5 | Y16: 6.8 | Z16: 7.3 | AA16: 4.7 | AB16: 3.8 | AC16: -1.9 | AD16: -14.6 | AE16: -18.6 | AF16: -20.3 | AG16: -25.1 | AH16: -36.7 | AI16: -50 | AJ16: -51.2 | AL16: -11 | AM16: 7.1 | AN16: =SUM(F16:I16) -> 12.5 | AO16: =SUM(J16:M16) -> 1.7 | AP16: =SUM(N16:Q16) -> -5.2 | AQ16: =SUM(R16:U16) -> 3.3 | AR16: =SUM(V16:Y16) -> 19.4 | AS16: =SUM(Z16:AC16) -> 13.9 | AT16: =SUM(AD16:AG16) -> -78.6
A17: Other income (expense), net | B17: 3.4 | C17: 2.2 | D17: 0.5 | E17: 0.7 | F17: 4.2 | G17: 10 | H17: 0.2 | I17: 1.6 | J17: 10.6 | K17: 9 | L17: 3.5 | M17: 2 | N17: 5.1 | O17: 7.5 | P17: 0.5 | Q17: 17 | R17: 5.7 | S17: -3.3 | T17: 7.2 | U17: -1.5 | V17: -0.4 | W17: -1.2 | X17: -0.2 | Y17: -1.9 | Z17: 0.3 | AA17: 1.9 | AB17: 1.1 | AC17: 6.4 | AD17: 0.3 | AE17: -2 | AF17: 2.8 | AG17: 6 | AH17: 5.3 | AI17: 2.9 | AJ17: 5.6 | AL17: 13.2 | AM17: 6.8 | AN17: =SUM(F17:I17) -> 16 | AO17: =SUM(J17:M17) -> 25.1 | AP17: =SUM(N17:Q17) -> 30.1 | AQ17: =SUM(R17:U17) -> 8.1 | AR17: =SUM(V17:Y17) -> -3.7 | AS17: =SUM(Z17:AC17) -> 9.7 | AT17: =SUM(AD17:AG17) -> 7.1
A18: Income (loss) before income taxes | B18: -463.7 | C18: -3 | D18: -6 | E18: -7.4 | F18: =SUM(F15:F17) -> -13.4 | G18: =SUM(G15:G17) -> -20.8 | H18: =SUM(H15:H17) -> -15.4 | I18: =SUM(I15:I17) -> -2.4 | J18: =SUM(J15:J17) -> 39.8 | K18: =SUM(K15:K17) -> 21.9 | L18: =SUM(L15:L17) -> 33.6 | M18: =SUM(M15:M17) -> -345.5 | ... AJ18: =SUM(AJ15:AJ17) -> 129.6 | AL18: -111.5 | AM18: -480.1 | AN18: =SUM(AN15:AN17) -> -52 | AO18: =SUM(J18:M18) -> -250.2 | AP18: =SUM(N18:Q18) -> 299.3 | AQ18: =SUM(R18:U18) -> 192.7 | AR18: =SUM(V18:Y18) -> 554.4 | AS18: =SUM(Z18:AC18) -> 509.8 | AT18: =SUM(AD18:AG18) -> 617.6
A19: (Provision for) benefit from income taxes | B19: -1.8 | C19: -1.1 | D19: 0.2 | E19: -2.1 | F19: 5.7 | G19: -0.6 | H19: -1.6 | I19: -4.2 | J19: -0.5 | K19: -4.4 | L19: -0.9 | M19: -0.3 | N19: 1.2 | O19: -3 | P19: -0.5 | Q19: 38.8 | R19: -14.1 | S19: -17.1 | T19: -15 | U19: 406.7 | V19: -18.6 | W19: -15.8 | X19: -21.4 | Y19: -45 | Z19: -18.8 | AA19: -23.1 | AB19: -26 | AC19: 10.4 | AD19: -19.2 | AE19: -22.2 | AF19: -33.4 | AG19: -34.4 | AH19: -26.9 | AI19: -21.9 | AJ19: -13.5 | AL19: -0.2 | AM19: -4.8 | AN19: =SUM(F19:I19) -> -0.7 | AO19: =SUM(J19:M19) -> -6.1 | AP19: =SUM(N19:Q19) -> 36.5 | AQ19: =SUM(R19:U19) -> 360.5 | AR19: =SUM(V19:Y19) -> -100.8 | AS19: =SUM(Z19:AC19) -> -57.5 | AT19: =SUM(AD19:AG19) -> -109.2
A20: Net income (loss) | B20: -465.5 | C20: -4.1 | D20: -5.8 | E20: -9.5 | F20: =SUM(F18:F19) -> -7.7 | G20: =SUM(G18:G19) -> -21.4 | H20: =SUM(H18:H19) -> -17 | I20: =SUM(I18:I19) -> -6.6 | J20: =SUM(J18:J19) -> 39.3 | K20: =SUM(K18:K19) -> 17.5 | L20: =SUM(L18:L19) -> 32.7 | M20: =SUM(M18:M19) -> -345.8 | ... AJ20: =SUM(AJ18:AJ19) -> 116.1 | AL20: -111.7 | AM20: -484.9 | AN20: =SUM(AN18:AN19) -> -52.7 | AO20: =SUM(AO18:AO19) -> -256.3 | AP20: =SUM(AP18:AP19) -> 335.8 | AQ20: =SUM(AQ18:AQ19) -> 553.2 | AR20: =SUM(V20:Y20) -> 453.6 | AS20: =SUM(AS18:AS19) -> 452.3 | AT20: =SUM(AD20:AG20) -> 508.4
A21: Basic net income per share | B21: =B20/B23 -> -2.1275137 | C21: =C20/C23 -> -0.010216795 | D21: =D20/D23 -> -0.01435999 | E21: =E20/E23 -> -0.023284314 | F21: =F20/F23 -> -0.018757613 | G21: =G20/G23 -> -0.051891368 | H21: =H20/H23 -> -0.041023166 | I21: =I20/I23 -> -0.0158883 | ... Q21: =Q20/Q23 -> 0.32780847 | R21: 0.22 | S21: =S20/S23 -> 0.17028289 | T21: =T20/T23 -> 0.23233734 | U21: =U20/U23 -> 0.93240557 | V21: =V20/V23 -> 0.19878997 | W21: =W20/W23 -> 0.12653779 | X21: =X20/X23 -> 0.33637972 | Y21: =Y20/Y23 -> 0.67348148 | Z21: =Z20/Z23 -> 0.39516129 | ... AI21: =AI20/AI23 -> 0.42615658 | AJ21: 0.53 | AL21: =AL20/AL23 -> -0.57018887 | AM21: =AM20/AM23 -> -1.352203 | AN21: =AN20/AN23 -> -0.12803693 | AO21: =AO20/AO23 -> -0.61863384 | AP21: =AP20/AP23 -> 0.86546392 | AQ21: =AQ20/AQ23 -> 1.5315615 | AR21: =AR20/AR23 -> 1.3294256 | AS21: =AS20/AS23 -> 1.4214331 | AT21: =AT20/AT23 -> 1.8948938
A22: Diluted net income per share | B22: =B20/B24 -> -2.1275137 | C22: =C20/C24 -> -0.010216795 | D22: =D20/D24 -> -0.01435999 | E22: =E20/E24 -> -0.023284314 | F22: =F20/F24 -> -0.018757613 | G22: =G20/G24 -> -0.051891368 | H22: =H20/H24 -> -0.041023166 | I22: =I20/I24 -> -0.0158883 | ... AI22: =AI20/AI24 -> 0.42239859 | AJ22: 0.52 | AL22: =AL20/AL24 -> -0.57018887 | AM22: =AM20/AM24 -> -1.352203 | AN22: =AN20/AN24 -> -0.12803693 | AO22: =AO20/AO24 -> -0.61863384 | AP22: =AP20/AP24 -> 0.84840829 | AQ22: =AQ20/AQ24 -> 1.5227085 | AR22: =SUM(V22:Y22) -> 1.3141923 | AS22: =AS20/AS24 -> 1.3985776 | AT22: =AT20/AT24 -> 1.8636364
A23: Weighted-average shares used in computing net income per share attributable to common stockholders, basic | B23: 218.8 | C23: 401.3 | D23: 403.9 | E23: 408 | F23: 410.5 | G23: 412.4 | H23: 414.4 | I23: 415.4 | J23: 417.3 | K23: 414.1 | L23: 414.2 | M23: 411.4 | N23: 398.1 | O23: 388.4 | P23: 385.5 | Q23: 380.1 | R23: 370.7 | S23: 364.1 | T23: 358.1 | U23: 352.1 | V23: 347.1 | W23: 341.4 | X23: 339.2 | Y23: 337.5 | Z23: 334.8 | AA23: 322.4 | AB23: 314.5 | AC23: 301.5 | AD23: 290.3 | AE23: 272.4 | AF23: 261.1 | AG23: 250.4 | AH23: 235.2 | AI23: 224.8 | AJ23: 218.2 | AL23: 195.9 | AM23: 358.6 | AN23: 411.6 | AO23: 414.3 | AP23: 388 | AQ23: 361.2 | AR23: 341.2 | AS23: 318.2 | AT23: 268.3
A24: Weighted-average shares used in computing net income per share attributable to common stockholders, diluted | B24: 218.8 | C24: 401.3 | D24: 403.9 | E24: 408 | F24: 410.5 | G24: 412.4 | H24: 414.4 | I24: 415.4 | J24: 419.3 | K24: 420.5 | L24: 419.9 | M24: 411.4 | N24: 405.4 | O24: 397 | P24: 398.1 | Q24: 386.5 | R24: 372.9 | S24: 365.7 | T24: 360.1 | U24: 354 | V24: 348.8 | W24: 343.8 | X24: 346 | Y24: 343.9 | Z24: 340.7 | AA24: 323.7 | AB24: 316.4 | AC24: 306.8 | AD24: 295.7 | AE24: 276.7 | AF24: 265.1 | AG24: 254.2 | AH24: 236.7 | AI24: 226.8 | AJ24: 225.1 | AL24: 195.9 | AM24: 358.6 | AN24: 411.6 | AO24: 414.3 | AP24: 395.8 | AQ24: 363.3 | AR24: 345.6 | AS24: 323.4 | AT24: 272.8
A26: GAAP to Non-GAAP reconciliation
B27: 43190 | C27: 43281 | D27: 43373 | E27: 43465 | F27: =F4 -> 43555 | G27: =G4 -> 43646 | H27: =H4 -> 43738 | I27: =I4 -> 43830 | J27: =J4 -> 43921 | K27: =K4 -> 44012 | L27: =L4 -> 44104 | M27: 44196 | N27: =N4 -> 44286 | O27: =$O$4 -> 44377 | P27: =P4 -> 44469 | Q27: =Q4 -> 44561 | R27: 44651 | S27: =S4 -> 44742 | T27: =T4 -> 44834 | U27: =U4 -> 44926 | V27: =V4 -> 45016 | W27: =W4 -> 45107 | X27: =X4 -> 45199 | Y27: =Y4 -> 45291 | Z27: =Z4 -> 45382 | ... AJ27: =AJ4 -> 46295 | AL27: 43100 | AM27: 43465 | AN27: =AN4 -> 43830 | AO27: =AO4 -> 44196 | AP27: =AP4 -> 44561 | AQ27: =AQ4 -> 44926 | AR27: =AR4 -> 45291 | AS27: =AS4 -> 45657 | AT27: =AT4 -> 46022
A28: Cost of revenue - GAAP | B28: 120.6 | C28: 89.5 | D28: 90.2 | E28: 94.4 | F28: 98.4 | G28: =G7 -> 102.9 | H28: =H7 -> 104.8 | I28: =I7 -> 104.9 | J28: =J7 -> 103.1 | K28: =K7 -> 102.5 | L28: =L7 -> 103.2 | M28: 105.8 | N28: =N7 -> 109.3 | O28: =O7 -> 107.1 | P28: =P7 -> 112 | Q28: 115.8 | R28: 112.9 | S28: =S7 -> 105.8 | T28: =T7 -> 109.7 | U28: =U7 -> 115.8 | V28: =V7 -> 116.8 | W28: =W7 -> 120.1 | X28: =X7 -> 119.6 | Y28: =Y7 -> 122 | Z28: =Z7 -> 105.8 | ... AF28: =AF7 -> 128.3 | AG28: 132.1 | AH28: 128.1 | AI28: 125 | AJ28: =AJ7 -> 123.6 | AL28: 368.9 | AM28: 394.7 | AN28: =AN7 -> 411 | AO28: =SUM(J28:M28) -> 414.6 | AP28: =SUM(N28:Q28) -> 444.2 | AQ28: =SUM(R28:U28) -> 444.2 | AR28: =SUM(V28:Y28) -> 478.5 | AS28: =SUM(Z28:AC28) -> 445.1 | AT28: =SUM(AD28:AG28) -> 500.8
A29: Stock-based compensation | B29: -37.8 | C29: -2.9 | D29: -3.2 | E29: -3.1 | F29: -3 | G29: -4.7 | H29: -4.1 | I29: -4 | J29: -3.5 | K29: -4.5 | L29: -4.6 | M29: -4.5 | N29: -5.4 | O29: -5.9 | P29: -6 | Q29: -5.9 | R29: -5.7 | S29: -6.7 | T29: -6.4 | U29: -5.9 | V29: -5.4 | W29: -6.4 | X29: -5.8 | Y29: -5.7 | Z29: -5.2 | AA29: -6 | AB29: -5.8 | AC29: -5.9 | AD29: -4.9 | AE29: -5.6 | AF29: -5.1 | AG29: -5 | AH29: -4.2 | AI29: -4.5 | AJ29: -4.5 | AL29: -12.2 | AM29: -47 | AN29: =SUM(F29:I29) -> -15.8 | AO29: =SUM(J29:M29) -> -17.1 | AP29: =SUM(N29:Q29) -> -23.2 | AQ29: =SUM(R29:U29) -> -24.7 | AR29: =SUM(V29:Y29) -> -23.3 | AS29: =SUM(Z29:AC29) -> -22.9 | AT29: =SUM(AD29:AG29) -> -20.6
A30: Employer payroll taxes related to the release of two-tier RSUs | B30: -1.1 | C30: 0 | D30: 0 | E30: 0 | F30: 0 | G30: 0 | H30: 0 | I30: 0 | J30: 0 | K30: 0 | L30: 0 | M30: 0 | N30: 0 | O30: 0 | P30: 0 | Q30: 0 | R30: 0 | S30: 0 | T30: 0 | U30: 0 | V30: 0 | W30: 0 | X30: 0 | Y30: 0 | Z30: 0 | AA30: 0 | AB30: 0 | AC30: 0 | AD30: 0 | AE30: 0 | AF30: 0 | AG30: 0 | AH30: 0 | AI30: 0 | AJ30: 0 | AL30: 0 | AM30: -1.1 | AN30: =SUM(F30:I30) -> 0 | AO30: =SUM(J30:M30) -> 0 | AP30: =SUM(N30:Q30) -> 0 | AQ30: =SUM(R30:U30) -> 0 | AR30: =SUM(V30:Y30) -> 0 | AS30: =SUM(Z30:AC30) -> 0 | AT30: =SUM(AD30:AG30) -> 0
A31: Acquisition-related and other expenses | B31: 0 | C31: 0 | D31: 0 | E31: 0 | F31: 0 | G31: 0 | H31: 0 | I31: 0 | J31: 0 | K31: 0 | L31: 0 | M31: 0 | N31: 0 | O31: 0 | P31: 0 | Q31: 0 | R31: 0 | S31: 0 | T31: 0 | U31: 0 | V31: 0 | W31: 0 | X31: 0 | Y31: 0 | Z31: 0 | AA31: 0 | AB31: 0 | AC31: 0 | AD31: 0 | AE31: -1.9 | AF31: 0 | AG31: 0 | AH31: 0 | AI31: 0 | AJ31: 0 | AL31: 0 | AM31: 0 | AN31: 0 | AO31: 0 | AP31: 0 | AQ31: 0 | AR31: 0 | AS31: 0 | AT31: =SUM(AD31:AG31) -> -1.9
A32: Intangible amortization | B32: 0 | C32: 0 | D32: 0 | E32: 0 | F32: -0.6 | G32: -0.9 | H32: -1 | I32: -0.9 | J32: -1 | K32: -1 | L32: -1 | M32: -0.9 | N32: -1 | O32: -1.6 | P32: -1.6 | Q32: -1.8 | R32: -2 | S32: -1.9 | T32: -2 | U32: -2.4 | V32: -3.6 | W32: -3.6 | X32: -3.7 | Y32: -3.7 | Z32: -3.1 | AA32: -2.8 | AB32: -3.6 | AC32: -3.6 | AD32: -4.8 | AE32: -4.9 | AF32: -4.9 | AG32: -5.2 | AH32: -5 | AI32: -4.1 | AJ32: -2.1 | AL32: 0 | AM32: 0 | AN32: =SUM(F32:I32) -> -3.4 | AO32: =SUM(J32:M32) -> -3.9 | AP32: =SUM(N32:Q32) -> -6 | AQ32: =SUM(R32:U32) -> -8.3 | AR32: =SUM(V32:Y32) -> -14.6 | AS32: =SUM(Z32:AC32) -> -13.1 | AT32: =SUM(AD32:AG32) -> -19.8
A33: Workforce reduction expense | B33: 0 | C33: 0 | D33: 0 | E33: 0 | F33: 0 | G33: 0 | H33: 0 | I33: 0 | J33: 0 | K33: 0 | L33: 0 | M33: 0 | N33: -1.6 | O33: -0.1 | P33: 0 | Q33: 0 | R33: 0 | S33: 0 | T33: 0 | U33: 0 | V33: 0 | W33: -2.7 | X33: -0.2 | Y33: 0 | Z33: 0 | AA33: 0 | AB33: 0 | AC33: -2.4 | AD33: -0.3 | AE33: -0.1 | AF33: 0 | AG33: 0 | AH33: 0 | AI33: 0 | AJ33: -1.3 | AL33: 0 | AM33: 0 | AN33: 0 | AO33: =SUM(J33:M33) -> 0 | AP33: =SUM(N33:Q33) -> -1.7 | AQ33: =SUM(R33:U33) -> 0 | AR33: =SUM(V33:Y33) -> -2.9 | AS33: =SUM(Z33:AC33) -> -2.4 | AT33: =SUM(AD33:AG33) -> -0.4
A34: Cost of revenue - Non-GAAP | B34: 81.7 | C34: 86.6 | D34: 87 | E34: 91.3 | F34: =SUM(F28:F32) -> 94.8 | G34: =SUM(G28:G32) -> 97.3 | H34: =SUM(H28:H32) -> 99.7 | I34: =SUM(I28:I32) -> 100 | J34: =SUM(J28:J32) -> 98.6 | K34: =SUM(K28:K32) -> 97 | L34: =SUM(L28:L32) -> 97.6 | M34: =SUM(M28:M32) -> 100.4 | N34: =SUM(N28:N33) -> 101.3 | O34: =SUM(O28:O33) -> 99.5 | P34: =SUM(P28:P33) -> 104.4 | Q34: =SUM(Q28:Q33) -> 108.1 | R34: =SUM(R28:R33) -> 105.2 | S34: =SUM(S28:S33) -> 97.2 | T34: =SUM(T28:T33) -> 101.3 | U34: =SUM(U28:U33) -> 107.5 | ... AJ34: =SUM(AJ28:AJ33) -> 115.7 | AL34: 356.7 | AM34: 346.6 | AN34: =SUM(AN28:AN32) -> 391.8 | AO34: =SUM(AO28:AO32) -> 393.6 | AP34: =SUM(AP28:AP33) -> 413.3 | AQ34: =SUM(AQ28:AQ33) -> 411.2 | AR34: =SUM(V34:Y34) -> 437.7 | AS34: =SUM(AS28:AS33) -> 406.7 | AT34: =SUM(AT28:AT33) -> 458.1
A36: Gross profit - GAAP | B36: 195.7 | C36: 249.7 | D36: 270.1 | E36: 281.5 | F36: 287.2 | G36: =G8 -> 298.6 | H36: =H8 -> 323.4 | I36: =I8 -> 341.1 | J36: =J8 -> 351.9 | K36: =K8 -> 364.9 | L36: =L8 -> 384.2 | M36: 398.3 | N36: =N8 -> 402.3 | O36: =O8 -> 423.5 | P36: =P8 -> 438.2 | Q36: 449.7 | R36: 449.5 | S36: =S8 -> 466.9 | T36: =T8 -> 481.3 | U36: =U8 -> 483 | V36: =V8 -> 494.3 | W36: =W8 -> 502.4 | X36: =X8 -> 513.4 | Y36: =Y8 -> 513 | Z36: =Z8 -> 525.5 | ... AJ36: =AJ8 -> 513.7 | AL36: 737.9 | AM36: 997 | AN36: =AN8 -> 1250.3 | AO36: =SUM(J36:M36) -> 1499.3 | AP36: =SUM(N36:Q36) -> 1713.7 | AQ36: =SUM(R36:U36) -> 1880.7 | AR36: =SUM(V36:Y36) -> 2023.1 | AS36: =SUM(Z36:AC36) -> 2103.1 | AT36: =SUM(AD36:AG36) -> 2020.2
A37: Stock-based compensation | B37: 37.8 | C37: 2.9 | D37: 3.2 | E37: 3.1 | F37: =-F29 -> 3 | G37: =-G29 -> 4.7 | H37: =-H29 -> 4.1 | I37: =-I29 -> 4 | J37: =-J29 -> 3.5 | K37: =-K29 -> 4.5 | L37: =-L29 -> 4.6 | M37: 4.5 | N37: =-N29 -> 5.4 | O37: =-O29 -> 5.9 | P37: =-P29 -> 6 | Q37: 5.9 | R37: 5.7 | S37: =-S29 -> 6.7 | T37: =-T29 -> 6.4 | U37: =-U29 -> 5.9 | V37: =-V29 -> 5.4 | W37: =-W29 -> 6.4 | X37: =-X29 -> 5.8 | Y37: =-Y29 -> 5.7 | Z37: =-Z29 -> 5.2 | ... AJ37: =-AJ29 -> 4.5 | AL37: 12.2 | AM37: 47 | AN37: =SUM(F37:I37) -> 15.8 | AO37: =SUM(J37:M37) -> 17.1 | AP37: =SUM(N37:Q37) -> 23.2 | AQ37: =SUM(R37:U37) -> 24.7 | AR37: =SUM(V37:Y37) -> 23.3 | AS37: =SUM(Z37:AC37) -> 22.9 | AT37: =SUM(AD37:AG37) -> 20.6
A38: Employer payroll taxes related to the release of two-tier RSUs | B38: 1.1 | C38: 0 | D38: 0 | E38: 0 | F38: 0 | G38: =G30 -> 0 | H38: =H30 -> 0 | I38: =I30 -> 0 | J38: =J30 -> 0 | K38: =K30 -> 0 | L38: =L30 -> 0 | M38: 0 | N38: =N30 -> 0 | O38: =O30 -> 0 | P38: =P30 -> 0 | Q38: 0 | R38: 0 | S38: =S30 -> 0 | T38: =T30 -> 0 | U38: =U30 -> 0 | V38: =V30 -> 0 | W38: =W30 -> 0 | X38: =X30 -> 0 | Y38: =Y30 -> 0 | Z38: =Z30 -> 0 | ... AJ38: =AJ30 -> 0 | AL38: 0 | AM38: 1.1 | AN38: =SUM(F38:I38) -> 0 | AO38: =SUM(J38:M38) -> 0 | AP38: =SUM(N38:Q38) -> 0 | AQ38: =SUM(R38:U38) -> 0 | AR38: =SUM(V38:Y38) -> 0 | AS38: =SUM(Z38:AC38) -> 0 | AT38: =SUM(AD38:AG38) -> 0
A39: Acquisition-related and other expenses | B39: 0 | C39: 0 | D39: 0 | E39: 0 | F39: 0 | G39: 0 | H39: 0 | I39: 0 | J39: 0 | K39: 0 | L39: 0 | M39: 0 | N39: 0 | O39: 0 | P39: 0 | Q39: 0 | R39: 0 | S39: 0 | T39: 0 | U39: 0 | V39: 0 | W39: 0 | X39: 0 | Y39: 0 | Z39: 0 | AA39: 0 | AB39: 0 | AC39: 0 | AD39: 0 | AE39: 1.9 | AF39: 0 | AG39: 0 | AH39: 0 | AI39: 0 | AJ39: =-AJ31 -> 0 | AL39: 0 | AM39: 0 | AN39: 0 | AO39: 0 | AP39: 0 | AQ39: 0 | AR39: 0 | AS39: 0 | AT39: =SUM(AD39:AG39) -> 1.9
A40: Intangible amortization | B40: 0 | C40: 0 | D40: 0 | E40: 0 | F40: 0.6 | G40: =-G32 -> 0.9 | H40: =-H32 -> 1 | I40: =-I32 -> 0.9 | J40: =-J32 -> 1 | K40: =-K32 -> 1 | L40: =-L32 -> 1 | M40: 0.9 | N40: =-N32 -> 1 | O40: =-O32 -> 1.6 | P40: =-P32 -> 1.6 | Q40: 1.8 | R40: 2 | S40: =-S32 -> 1.9 | T40: =-T32 -> 2 | U40: =-U32 -> 2.4 | V40: =-V32 -> 3.6 | W40: =-W32 -> 3.6 | X40: =-X32 -> 3.7 | Y40: =-Y32 -> 3.7 | Z40: =-Z32 -> 3.1 | ... AJ40: =-AJ32 -> 2.1 | AL40: 0 | AM40: 0 | AN40: =-AN32 -> 3.4 | AO40: =SUM(J40:M40) -> 3.9 | AP40: =SUM(N40:Q40) -> 6 | AQ40: =SUM(R40:U40) -> 8.3 | AR40: =SUM(V40:Y40) -> 14.6 | AS40: =SUM(Z40:AC40) -> 13.1 | AT40: =SUM(AD40:AG40) -> 19.8
A41: Workforce reduction expense | B41: 0 | C41: 0 | D41: 0 | E41: 0 | F41: 0 | G41: 0 | H41: 0 | I41: 0 | J41: 0 | K41: 0 | L41: 0 | M41: 0 | N41: =-N33 -> 1.6 | O41: =-O33 -> 0.1 | P41: =-P33 -> 0 | Q41: 0 | R41: 0 | S41: =-S33 -> 0 | T41: =-T33 -> 0 | U41: =-U33 -> 0 | V41: =-V33 -> 0 | W41: =-W33 -> 2.7 | X41: =-X33 -> 0.2 | Y41: =-Y33 -> 0 | Z41: =-Z33 -> 0 | ... AJ41: =-AJ33 -> 1.3 | AL41: 0 | AM41: 0 | AN41: 0 | AO41: =SUM(J41:M41) -> 0 | AP41: =SUM(N41:Q41) -> 1.7 | AQ41: =SUM(R41:U41) -> 0 | AR41: =SUM(V41:Y41) -> 2.9 | AS41: =SUM(Z41:AC41) -> 2.4 | AT41: =SUM(AD41:AG41) -> 0.4
A42: Gross profit - Non-GAAP | B42: 234.6 | C42: 252.6 | D42: 273.3 | E42: 284.6 | F42: =SUM(F36:F40) -> 290.8 | G42: =SUM(G36:G40) -> 304.2 | H42: =SUM(H36:H40) -> 328.5 | I42: =SUM(I36:I40) -> 346 | J42: =SUM(J36:J40) -> 356.4 | K42: =SUM(K36:K40) -> 370.4 | L42: =SUM(L36:L40) -> 389.8 | M42: =SUM(M36:M40) -> 403.7 | N42: =SUM(N36:N41) -> 410.3 | O42: =SUM(O36:O41) -> 431.1 | P42: =SUM(P36:P41) -> 445.8 | Q42: =SUM(Q36:Q41) -> 457.4 | R42: =SUM(R36:R41) -> 457.2 | S42: =SUM(S36:S41) -> 475.5 | T42: =SUM(T36:T41) -> 489.7 | U42: =SUM(U36:U41) -> 491.3 | ... AJ42: =SUM(AJ36:AJ41) -> 521.6 | AL42: 750.1 | AM42: 1045.1 | AN42: =SUM(AN36:AN40) -> 1269.5 | AO42: =SUM(AO36:AO40) -> 1520.3 | AP42: =SUM(AP36:AP41) -> 1744.6 | AQ42: =SUM(AQ36:AQ41) -> 1913.7 | AR42: =SUM(V42:Y42) -> 2063.9 | AS42: =SUM(AS36:AS41) -> 2141.5 | AT42: =SUM(AT36:AT41) -> 2062.9
A44: Research and development - GAAP | B44: 378.5 | C44: 119.7 | D44: 133.2 | E44: 136.8 | F44: 150 | G44: =G10 -> 162.4 | H44: =H10 -> 172.8 | I44: =I10 -> 176.9 | J44: =J10 -> 181.8 | K44: =K10 -> 185.8 | L44: =L10 -> 183.3 | M44: 176.6 | N44: =N10 -> 181.2 | O44: =O10 -> 185.5 | P44: =P10 -> 187.3 | Q44: 201.9 | R44: 210.8 | S44: =S10 -> 215 | T44: =T10 -> 227.6 | U44: =U10 -> 238.5 | V44: =V10 -> 235.2 | W44: =W10 -> 262.8 | X44: =X10 -> 216.4 | Y44: =Y10 -> 222.1 | Z44: =Z10 -> 219.1 | ... AJ44: =AJ10 -> 185.4 | AL44: 380.3 | AM44: 768.2 | AN44: =AN10 -> 662.1 | AO44: =SUM(J44:M44) -> 727.5 | AP44: =SUM(N44:Q44) -> 755.9 | AQ44: =SUM(R44:U44) -> 891.9 | AR44: =SUM(V44:Y44) -> 936.5 | AS44: =SUM(Z44:AC44) -> 914.9 | AT44: =SUM(AD44:AG44) -> 732
...

Sheet Balance Sheet
A1: Dropbox, Inc.
A2: Consolidated balance sheets (GAAP)
A3: (in millions)
B4: As of | C4: As of | D4: As of | E4: As of | F4: As of | G4: As of | H4: As of | I4: As of | J4: As of | K4: As of | L4: As of | M4: As of | N4: As of | O4: As of | P4: As of | Q4: As of | R4: As of | S4: As of | T4: As of | U4: As of | V4: As of | W4: As of | X4: As of | Y4: As of | Z4: As of | AA4: As of | AB4: As of | AC4: As of | AD4: As of | AE4: As of | AF4: As of | AG4: As of
B5: 43465 | C5: 43555 | D5: 43646 | E5: 43738 | F5: 43830 | G5: 43921 | H5: 44012 | I5: 44104 | J5: 44196 | K5: 44286 | L5: 44377 | M5: 44469 | N5: 44561 | O5: 44651 | P5: 44742 | Q5: 44834 | R5: 44926 | S5: 45016 | T5: 45107 | U5: 45199 | V5: 45291 | W5: 45382 | X5: 45473 | Y5: 45565 | Z5: 45657 | AA5: 45747 | AB5: 45838 | AC5: 45930 | AD5: 46022 | AE5: 46112 | AF5: 46203 | AG5: 46295
B6: (Audited) | C6: (Unaudited) | D6: (Unaudited) | E6: (Unaudited) | F6: (Audited) | G6: (Unaudited) | H6: (Unaudited) | I6: (Unaudited) | J6: (Audited) | K6: (Unaudited) | L6: (Unaudited) | M6: (Unaudited) | N6: (Audited) | O6: (Unaudited) | P6: (Unaudited) | Q6: (Unaudited) | R6: (Audited) | S6: (Unaudited) | T6: (Unaudited) | U6: (Unaudited) | V6: (Audited) | W6: (Unaudited) | X6: (Unaudited) | Y6: (Unaudited) | Z6: (Audited) | AA6: (Unaudited) | AB6: (Unaudited) | AC6: (Unaudited) | AD6: (Audited) | AE6: (Unaudited) | AF6: (Unaudited) | AG6: (Unaudited)
A7: Assets
A8: Current Assets:
A9: Cash and cash equivalents | B9: 519.3 | C9: 359.2 | D9: 343.6 | E9: 443.2 | F9: 551.3 | G9: 486.4 | H9: 334.1 | I9: 452.7 | J9: 314.9 | K9: 845.5 | L9: 885.3 | M9: 688.9 | N9: 533 | O9: 445.5 | P9: 352.1 | Q9: 372 | R9: 232.8 | S9: 332.7 | T9: 510.3 | U9: 604.3 | V9: 614.9 | W9: 548.9 | X9: 515.1 | Y9: 517.6 | Z9: 1328.3 | AA9: 942.2 | AB9: 736.3 | AC9: 730.7 | AD9: 891.3 | AE9: 1207.4 | AF9: 1056.2 | AG9: 1104.8
A10: Short-term investments | B10: 570 | C10: 556 | D10: 629.2 | E10: 587.7 | F10: 607.7 | G10: 614.4 | H10: 783.5 | I10: 773.8 | J10: 806.4 | K10: 1070.9 | L10: 1058.9 | M10: 1239.8 | N10: 1185.1 | O10: 1050.1 | P10: 1094.2 | Q10: 1081.4 | R10: 1110.6 | S10: 920.4 | T10: 717.2 | U10: 704.6 | V10: 741.1 | W10: 627 | X10: 547.4 | Y10: 373.2 | Z10: 265.9 | AA10: 237.8 | AB10: 218.4 | AC10: 194.6 | AD10: 146.9 | AE10: 81.4 | AF10: 57.6 | AG10: 37.4
A11: Trade and other receivables, net | B11: 28.6 | C11: 34.1 | D11: 37.6 | E11: 38.4 | F11: 36.7 | G11: 36.9 | H11: 45.6 | I11: 49.6 | J11: 43.4 | K11: 50.5 | L11: 52.2 | M11: 40.9 | N11: 49.6 | O11: 44.6 | P11: 46.7 | Q11: 49.7 | R11: 53.8 | S11: 57.6 | T11: 60.3 | U11: 64.1 | V11: 68.7 | W11: 66.7 | X11: 67.1 | Y11: 69.5 | Z11: 70.4 | AA11: 71.6 | AB11: 75.8 | AC11: 73.9 | AD11: 79.1 | AE11: 74.7 | AF11: 76.3 | AG11: 75.9
A12: Prepaid expenses and other current assets | B12: 92.3 | C12: 58.3 | D12: 57.3 | E12: 64.3 | F12: 47.5 | G12: 57.5 | H12: 59.1 | I12: 54.1 | J12: 62.8 | K12: 67.1 | L12: 70.9 | M12: 86.7 | N12: 82.1 | O12: 82.7 | P12: 100.1 | Q12: 76.6 | R12: 92.6 | S12: 89 | T12: 92.7 | U12: 94.1 | V12: 91.9 | W12: 96.6 | X12: 101.8 | Y12: 85.2 | Z12: 73.8 | AA12: 83.2 | AB12: 83 | AC12: 83.5 | AD12: 73.2 | AE12: 84.9 | AF12: 75.9 | AG12: 68.9
A13: Total current assets | B13: 1210.2 | C13: =SUM(C9:C12) -> 1007.6 | D13: =SUM(D9:D12) -> 1067.7 | E13: =SUM(E9:E12) -> 1133.6 | F13: =SUM(F9:F12) -> 1243.2 | G13: =SUM(G9:G12) -> 1195.2 | H13: =SUM(H9:H12) -> 1222.3 | I13: =SUM(I9:I12) -> 1330.2 | J13: =SUM(J9:J12) -> 1227.5 | ... AG13: =SUM(AG9:AG12) -> 1287
A14: Property and equipment, net | B14: 310.6 | C14: 340.9 | D14: 369.3 | E14: 416.6 | F14: 445.3 | G14: 473.2 | H14: 475.6 | I14: 488.4 | J14: 338.7 | K14: 330.8 | L14: 342.9 | M14: 345.8 | N14: 322 | O14: 316.1 | P14: 296.3 | Q14: 281.1 | R14: 308.4 | S14: 307.2 | T14: 298.5 | U14: 298.9 | V14: 309.2 | W14: 315 | X14: 323.7 | Y14: 346.3 | Z14: 358.8 | AA14: 364.6 | AB14: 362.2 | AC14: 377.3 | AD14: 378.4 | AE14: 358.3 | AF14: 338.1 | AG14: 341.1
A15: Operating lease right-of-use asset | B15: 0 | C15: 430.4 | D15: 575.7 | E15: 581.7 | F15: 657.9 | G15: 708.1 | H15: 701.6 | I15: 705.9 | J15: 470.5 | K15: 455.9 | L15: 437.6 | M15: 464.8 | N15: 413.9 | O15: 420.3 | P15: 396.8 | Q15: 380.1 | R15: 260.6 | S15: 248.2 | T15: 238.9 | U15: 244.4 | V15: 183.8 | W15: 177.6 | X15: 176.9 | Y15: 167.9 | Z15: 158.9 | AA15: 181.4 | AB15: 223.1 | AC15: 280.3 | AD15: 270.7 | AE15: 260.7 | AF15: 261.5 | AG15: 250.9
A16: Intangible assets, net | B16: 14.7 | C16: 57.4 | D16: 53.7 | E16: 50.1 | F16: 47.4 | G16: 44.4 | H16: 40.5 | I16: 37 | J16: 33.5 | K16: 53 | L16: 48.9 | M16: 49.6 | N16: 53.6 | O16: 50 | P16: 46.5 | Q16: 42.6 | R16: 88.3 | S16: 80.8 | T16: 73.5 | U16: 65.8 | V16: 58.1 | W16: 51.6 | X16: 56.4 | Y16: 62.2 | Z16: 54.9 | AA16: 48.8 | AB16: 42.5 | AC16: 40.4 | AD16: 33.7 | AE16: 27.4 | AF16: 22.4 | AG16: 22.7
A17: Goodwill | B17: 96.5 | C17: 230.4 | D17: 230.9 | E17: 231.8 | F17: 234.5 | G17: 233.3 | H17: 234.7 | I17: 234.3 | J17: 236.9 | K17: 346 | L17: 346.8 | M17: 347.2 | N17: 356.6 | O17: 355.9 | P17: 353.9 | Q17: 352.6 | R17: 403.3 | S17: 402.5 | T17: 402.1 | U17: 400.5 | V17: 402.2 | W17: 401.8 | X17: 411.9 | Y17: 442.7 | Z17: 442.8 | AA17: 442.6 | AB17: 452.3 | AC17: 453.4 | AD17: 454.9 | AE17: 455.5 | AF17: 456.9 | AG17: 456.4
A18: Deferred tax assets (1) | B18: 0 | C18: 0 | D18: 0 | E18: 0 | F18: 0 | G18: 0 | H18: 0 | I18: 0 | J18: 0 | K18: 0 | L18: 0 | M18: 0 | N18: 0 | O18: 0 | P18: 0 | Q18: 0 | R18: 498.7 | S18: 495.4 | T18: 491.2 | U18: 486.9 | V18: 460.4 | W18: 460.8 | X18: 461.5 | Y18: 458.1 | Z18: 466.7 | AA18: 465.2 | AB18: 465.4 | AC18: 433.9 | AD18: 415.7 | AE18: 405.3 | AF18: 402.8 | AG18: 405.7
A19: Other assets | B19: 62.1 | C19: 61.9 | D19: 67.6 | E19: 72.8 | F19: 70.9 | G19: 63.1 | H19: 67.6 | I19: 66.5 | J19: 80.1 | K19: 87.6 | L19: 84.6 | M19: 75.4 | N19: 95.4 | O19: 86.8 | P19: 72.2 | Q19: 66.7 | R19: 61 | S19: 59.9 | T19: 53.9 | U19: 47 | V19: 53.2 | W19: 51.7 | X19: 56.7 | Y19: 54 | Z19: 104.7 | AA19: 119.9 | AB19: 120.4 | AC19: 127.8 | AD19: 101 | AE19: 75.3 | AF19: 78.6 | AG19: 70.6
A20: Total assets | B20: 1694.1 | C20: =SUM(C13:C19) -> 2128.6 | D20: =SUM(D13:D19) -> 2364.9 | E20: =SUM(E13:E19) -> 2486.6 | F20: =SUM(F13:F19) -> 2699.2 | G20: =SUM(G13:G19) -> 2717.3 | H20: =SUM(H13:H19) -> 2742.3 | I20: =SUM(I13:I19) -> 2862.3 | J20: =SUM(J13:J19) -> 2387.2 | ... AG20: =SUM(AG13:AG19) -> 2834.4
A21: Liabilities and stockholders' (deficit) equity
A22: Current liabilities:
A23: Accounts payable | B23: 33.3 | C23: 27.4 | D23: 31.8 | E23: 31.3 | F23: 40.7 | G23: 38.8 | H23: 26.3 | I23: 29.5 | J23: 18.7 | K23: 27.7 | L23: 31.6 | M23: 23 | N23: 25.7 | O23: 24.4 | P23: 30.3 | Q23: 34.4 | R23: 38.6 | S23: 38.6 | T23: 44.3 | U23: 45.2 | V23: 38.5 | W23: 32 | X23: 37.8 | Y23: 35.5 | Z23: 36.5 | AA23: 33.6 | AB23: 38.2 | AC23: 37.3 | AD23: 24.3 | AE23: 32.1 | AF23: 35.7 | AG23: 34.9
A24: Accrued and other current liabilities | B24: 164.5 | C24: 148.8 | D24: 149.4 | E24: 149.9 | F24: 161.9 | G24: 149.5 | H24: 134.5 | I24: 129.4 | J24: 156.7 | K24: 169.9 | L24: 158.7 | M24: 170.9 | N24: 140.8 | O24: 155.2 | P24: 147.7 | Q24: 137.2 | R24: 139.9 | S24: 167.1 | T24: 151.1 | U24: 150.5 | V24: 155.2 | W24: 160.2 | X24: 151.6 | Y24: 147.1 | Z24: 143.2 | AA24: 148.5 | AB24: 134 | AC24: 149.7 | AD24: 121.7 | AE24: 142.1 | AF24: 111.4 | AG24: 124.7
A25: Accrued compensation and benefits | B25: 80.9 | C25: 36.4 | D25: 57.4 | E25: 79.1 | F25: 101.4 | G25: 41.4 | H25: 71.1 | I25: 93.3 | J25: 113.6 | K25: 43.4 | L25: 76.4 | M25: 107.1 | N25: 139.1 | O25: 44.6 | P25: 73.5 | Q25: 102.3 | R25: 131.7 | S25: 40.1 | T25: 66.5 | U25: 86.4 | V25: 109.2 | W25: 42.7 | X25: 67 | Y25: 90.7 | Z25: 105.2 | AA25: 40.2 | AB25: 65.5 | AC25: 85.1 | AD25: 111.8 | AE25: 42.5 | AF25: 71.6 | AG25: 94.5
A26: Operating lease liability | B26: 0 | C26: 74.1 | D26: 78.3 | E26: 76 | F26: 79.9 | G26: 84.3 | H26: 82.6 | I26: 89.7 | J26: 88.7 | K26: 87.7 | L26: 86.9 | M26: 85.2 | N26: 78.3 | O26: 82.6 | P26: 77.3 | Q26: 72.6 | R26: 68.9 | S26: 64.8 | T26: 67.4 | U26: 67.4 | V26: 57.4 | W26: 75 | X26: 69.1 | Y26: 68.8 | Z26: 64.9 | AA26: 44.3 | AB26: 44.2 | AC26: 52 | AD26: 51.3 | AE26: 51.4 | AF26: 55.1 | AG26: 57.9
A27: Finance lease obligation | B27: 73.8 | C27: 70.7 | D27: 68.9 | E27: 70.9 | F27: 76.7 | G27: 80 | H27: 83.8 | I27: 86.4 | J27: 99.6 | K27: 105.2 | L27: 113.9 | M27: 120.9 | N27: 120.4 | O27: 118.9 | P27: 115 | Q27: 111.3 | R27: 114.8 | S27: 114.2 | T27: 113.4 | U27: 112.6 | V27: 116.2 | W27: 115.1 | X27: 115.5 | Y27: 120.2 | Z27: 123.3 | AA27: 126.8 | AB27: 126.4 | AC27: 132.1 | AD27: 144.3 | AE27: 133.6 | AF27: 128.9 | AG27: 127.6
A28: Convertible senior notes, net, current(3) | B28: 0 | C28: 0 | D28: 0 | E28: 0 | F28: 0 | G28: 0 | H28: 0 | I28: 0 | J28: 0 | K28: 0 | L28: 0 | M28: 0 | N28: 0 | O28: 0 | P28: 0 | Q28: 0 | R28: 0 | S28: 0 | T28: 0 | U28: 0 | V28: 0 | W28: 0 | X28: 0 | Y28: 0 | Z28: 0 | AA28: 693.8 | AB28: 694.3 | AC28: 694.9 | AD28: 695.4 | AE28: 0 | AF28: 0 | AG28: 0
A29: Term loan, net, current (2) | B29: 0 | C29: 0 | D29: 0 | E29: 0 | F29: 0 | G29: 0 | H29: 0 | I29: 0 | J29: 0 | K29: 0 | L29: 0 | M29: 0 | N29: 0 | O29: 0 | P29: 0 | Q29: 0 | R29: 0 | S29: 0 | T29: 0 | U29: 0 | V29: 0 | W29: 0 | X29: 0 | Y29: 0 | Z29: 10 | AA29: 10 | AB29: 10 | AC29: 11.5 | AD29: 15 | AE29: 27.1 | AF29: 27.1 | AG29: 27.1
A30: Deferred revenue | B30: 485 | C30: 508.4 | D30: 517.3 | E30: 541.1 | F30: 554.2 | G30: 576.8 | H30: 583.5 | I30: 598.6 | J30: 610.5 | K30: 641 | L30: 657.5 | M30: 668 | N30: 671.5 | O30: 691.7 | P30: 691.9 | Q30: 698.6 | R30: 702.6 | S30: 727.7 | T30: 734.5 | U30: 734.7 | V30: 725 | W30: 741.8 | X30: 743 | Y30: 739.8 | Z30: 727.7 | AA30: 739.8 | AB30: 742.6 | AC30: 740.6 | AD30: 729.7 | AE30: 746.9 | AF30: 748.9 | AG30: 738.4
A31: Total current liabilities | B31: 837.5 | C31: =SUM(C23:C30) -> 865.8 | D31: =SUM(D23:D30) -> 903.1 | E31: =SUM(E23:E30) -> 948.3 | F31: =SUM(F23:F30) -> 1014.8 | G31: =SUM(G23:G30) -> 970.8 | H31: =SUM(H23:H30) -> 981.8 | I31: =SUM(I23:I30) -> 1026.9 | J31: =SUM(J23:J30) -> 1087.8 | ... AG31: =SUM(AG23:AG30) -> 1205.1
A32: Operating lease liability, non-current | B32: 0 | C32: 441.5 | D32: 601.4 | E32: 626.2 | F32: 711.9 | G32: 771.6 | H32: 771.3 | I32: 777.3 | J32: 759.6 | K32: 744.6 | L32: 723.4 | M32: 743.6 | N32: 632 | O32: 632.3 | P32: 608.7 | Q32: 589.7 | R32: 585.2 | S32: 569.6 | T32: 553.8 | U32: 550.8 | V32: 310.7 | W32: 281.6 | X32: 274.9 | Y32: 264.9 | Z32: 250.4 | AA32: 274.5 | AB32: 318.3 | AC32: 366.6 | AD32: 355.9 | AE32: 340.6 | AF32: 334.2 | AG32: 319
A33: Finance lease obligation, non-current | B33: 89.9 | C33: 106.7 | D33: 119.6 | E33: 128 | F33: 138.2 | G33: 147.9 | H33: 152.1 | I33: 169.4 | J33: 171.6 | K33: 165.4 | L33: 174 | M33: 182.2 | N33: 167.7 | O33: 156.6 | P33: 142.9 | Q33: 133.3 | R33: 151.7 | S33: 154.8 | T33: 157.1 | U33: 153.3 | V33: 168.5 | W33: 164.2 | X33: 167.2 | Y33: 188.6 | Z33: 203.5 | AA33: 209.9 | AB33: 200.3 | AC33: 205.7 | AD33: 201.5 | AE33: 181 | AF33: 157 | AG33: 152.9
A34: Convertible senior notes, net, non-current(3) | B34: 0 | C34: 0 | D34: 0 | E34: 0 | F34: 0 | G34: 0 | H34: 0 | I34: 0 | J34: 0 | K34: 1367.4 | L34: 1368.4 | M34: 1369.3 | N34: 1370.3 | O34: 1371.2 | P34: 1372.2 | Q34: 1373.1 | R34: 1374 | S34: 1375 | T34: 1375.9 | U34: 1376.9 | V34: 1377.8 | W34: 1378.7 | X34: 1379.7 | Y34: 1380.6 | Z34: 1381.6 | AA34: 688.7 | AB34: 689.1 | AC34: 689.5 | AD34: 689.9 | AE34: 690.3 | AF34: 690.7 | AG34: 691.1
A35: Term loan, net, non-current (2) | B35: 0 | C35: 0 | D35: 0 | E35: 0 | F35: 0 | G35: 0 | H35: 0 | I35: 0 | J35: 0 | K35: 0 | L35: 0 | M35: 0 | N35: 0 | O35: 0 | P35: 0 | Q35: 0 | R35: 0 | S35: 0 | T35: 0 | U35: 0 | V35: 0 | W35: 0 | X35: 0 | Y35: 0 | Z35: 962.9 | AA35: 961.7 | AB35: 960.6 | AC35: 1102.4 | AD35: 1433.7 | AE35: 2584.6 | AF35: 2582.4 | AG35: 2580.2
A36: Other non-current liabilities | B36: 89.9 | C36: 9.7 | D36: 10.6 | E36: 21.5 | F36: 25.9 | G36: 26.6 | H36: 33.7 | I36: 37.4 | J36: 34.4 | K36: 38 | L36: 32.1 | M36: 31.5 | N36: 39.4 | O36: 37.8 | P36: 42.2 | Q36: 41.6 | R36: 112.1 | S36: 107 | T36: 86.5 | U36: 83.1 | V36: 90.8 | W36: 83.6 | X36: 84 | Y36: 86.6 | Z36: 68.4 | AA36: 61.2 | AB36: 61.4 | AC36: 59.6 | AD36: 67.6 | AE36: 70.4 | AF36: 71.6 | AG36: 73.4
A37: Total liabilities | B37: 1017.3 | C37: =SUM(C31:C36) -> 1423.7 | D37: =SUM(D31:D36) -> 1634.7 | E37: =SUM(E31:E36) -> 1724 | F37: =SUM(F31:F36) -> 1890.8 | G37: =SUM(G31:G36) -> 1916.9 | H37: =SUM(H31:H36) -> 1938.9 | I37: =SUM(I31:I36) -> 2011 | J37: =SUM(J31:J36) -> 2053.4 | ... AG37: =SUM(AG31:AG36) -> 5021.7
A38: Stockholders' (deficit) equity:
A39: Additional paid-in-capital | B39: 2337.5 | C39: 2377.8 | D39: 2428.4 | E39: 2478.6 | F39: 2531.3 | G39: 2528.5 | H39: 2560.4 | I39: 2608.8 | J39: 2564.3 | K39: 2420.2 | L39: 2446.9 | M39: 2468.1 | N39: 2448.1 | O39: 2419.7 | P39: 2424.1 | Q39: 2438.9 | R39: 2511.6 | S39: 2501.6 | T39: 2521.9 | U39: 2561.3 | V39: 2598 | W39: 2554.8 | X39: 2519.9 | Y39: 2454.5 | Z39: 2404.2 | AA39: 2267 | AB39: 2181 | AC39: 2100.3 | AD39: 2012.2 | AE39: 1904.6 | AF39: 1823.8 | AG39: 1833.5
A40: Accumulated deficit | B40: -1659.5 | C40: -1674.7 | D40: -1700.1 | E40: -1718.1 | F40: -1726.2 | G40: -1726.6 | H40: -1764.4 | I40: -1764.3 | J40: -2241.4 | K40: -2507.8 | L40: -2547.5 | M40: -2635.5 | N40: -2739.4 | O40: -2854.9 | P40: -2926.1 | Q40: -2972.1 | R40: -2772.1 | S40: -2827.5 | T40: -2895.6 | U40: -2874.7 | V40: -2742.3 | W40: -2811.6 | X40: -2872.6 | Y40: -2993 | Z40: -3146.5 | AA40: -3335.7 | AB40: -3487.6 | AC40: -3633.6 | AD40: -3815.1 | AE40: -3922.2 | AF40: -4018.9 | AG40: -4026.9
...

Sheet Cash Flow
A1: Dropbox, Inc.
A2: Condensed consolidated statements of cash flow (GAAP)
A3: (in millions)
B4: 43190 | C4: 43281 | D4: 43373 | E4: 43465 | F4: 43555 | G4: 43646 | H4: 43738 | I4: 43830 | J4: 43921 | K4: 44012 | L4: 44104 | M4: 44196 | N4: 44286 | O4: 44377 | P4: 44469 | Q4: 44561 | R4: 44651 | S4: 44742 | T4: 44834 | U4: 44926 | V4: 45016 | W4: 45107 | X4: 45199 | Y4: 45291 | Z4: 45382 | AA4: 45473 | AB4: 45565 | AC4: 45657 | AD4: 45747 | AE4: 45838 | AF4: 45930 | AG4: 46022 | AH4: 46112 | AI4: 46203 | AJ4: 46295 | AL4: 43100 | AM4: 43465 | AN4: 43830 | AO4: 44196 | AP4: 44561 | AQ4: 44926 | AR4: 45291 | AS4: 45657 | AT4: 46022
A5: Cash flow from operating activities | B5: (Unaudited) | AL5: (Audited) | AM5: (Audited) | AN5: (Audited) | AO5: (Audited) | AP5: (Audited) | AQ5: (Audited) | AR5: (Audited) | AS5: (Audited) | AT5: (Audited)
A6: Net income (loss) | B6: -465500000 | C6: -4100000 | D6: -5800000 | E6: -9500000 | F6: -7700000 | G6: -21400000 | H6: -17000000 | I6: -6600000 | J6: 39300000 | K6: 17500000 | L6: 32700000 | M6: -345800000 | N6: 47600000 | O6: 88000000 | P6: 75600000 | Q6: 124600000 | R6: 79700000 | S6: 62000000 | T6: 83200000 | U6: 328300000 | V6: 69000000 | W6: 43200000 | X6: 114100000 | Y6: 227300000 | Z6: 132300000 | AA6: 110500000 | AB6: 106700000 | AC6: 102800000 | AD6: 150300000 | AE6: 125600000 | AF6: 123800000 | AG6: 108700000 | AH6: 114500000 | AI6: 95800000 | AJ6: 116100000 | AL6: -111700000 | AM6: -484900000 | AN6: -52700000 | AO6: -256300000 | AP6: 335800000 | AQ6: 553200000 | AR6: 453600000 | AS6: 452300000 | AT6: 508400000
A7: Adjustments to reconcile net income (loss) to net cash provided by operating activities:
A8: Depreciation and amortization | B8: 35900000 | C8: 40000000 | D8: 45700000 | E8: 45200000 | F8: 45800000 | G8: 46100000 | H8: 40600000 | I8: 41000000 | J8: 39500000 | K8: 40100000 | L8: 40900000 | M8: 38800000 | N8: 34700000 | O8: 36800000 | P8: 38800000 | Q8: 41100000 | R8: 39400000 | S8: 39221000 | T8: 38863000 | U8: 39600000 | V8: 42500000 | W8: 42700000 | X8: 41800000 | Y8: 43000000 | Z8: 31400000 | AA8: 32400000 | AB8: 35300000 | AC8: 38200000 | AD8: 38100000 | AE8: 39000000 | AF8: 39600000 | AG8: 40700000 | AH8: 39100000 | AI8: 36400000 | AJ8: 35300000 | AL8: 181800000 | AM8: 166800000 | AN8: 173500000 | AO8: 159300000 | AP8: 151400000 | AQ8: 157084000 | AR8: 170000000 | AS8: 137300000 | AT8: 157400000
A9: Stock-based compensation | B9: 486500000 | C9: 55100000 | D9: 55000000 | E9: 53500000 | F9: 55600000 | G9: 68100000 | H9: 68200000 | I9: 69300000 | J9: 39800000 | K9: 76600000 | L9: 75700000 | M9: 69400000 | N9: 67900000 | O9: 73900000 | P9: 72800000 | Q9: 72500000 | R9: 72300000 | S9: 84952000 | T9: 86137000 | U9: 87300000 | V9: 76000000 | W9: 95300000 | X9: 83800000 | Y9: 82900000 | Z9: 78000000 | AA9: 90500000 | AB9: 92300000 | AC9: 85700000 | AD9: 67100000 | AE9: 77700000 | AF9: 78600000 | AG9: 77400000 | AH9: 71100000 | AI9: 77300000 | AJ9: 77000000 | AL9: 164600000 | AM9: 650100000 | AN9: 261200000 | AO9: 261500000 | AP9: 287100000 | AQ9: 330689000 | AR9: 338000000 | AS9: 346500000 | AT9: 300800000
A10: Net (gain) loss on real estate assets | B10: 0 | C10: 0 | D10: 0 | E10: 0 | F10: 0 | G10: 0 | H10: 0 | I10: 0 | J10: 0 | K10: 0 | L10: 0 | M10: 398200000 | N10: 17300000 | O10: 0 | P10: 0 | Q10: 400000 | R10: 0 | S10: 8700000 | T10: 4033000 | U10: 162500000 | V10: 0 | W10: 2200000 | X10: 0 | Y10: -157400000 | Z10: 0 | AA10: 0 | AB10: 0 | AC10: 100000 | AD10: 0 | AE10: 2600000 | AF10: 0 | AG10: -3900000 | AH10: 0 | AI10: 0 | AJ10: 0 | AL10: 0 | AM10: 0 | AN10: 0 | AO10: 398200000 | AP10: 17700000 | AQ10: 175233000 | AR10: -155200000 | AS10: 100000 | AT10: -1300000
A11: Amortization of debt issuance costs (4) | B11: 0 | C11: 0 | D11: 0 | E11: 0 | F11: 0 | G11: 0 | H11: 0 | I11: 0 | J11: 0 | K11: 0 | L11: 0 | M11: 0 | N11: 700000 | O11: 1000000 | P11: 1100000 | Q11: 1000000 | R11: 1000000 | S11: 1100000 | T11: 1000000 | U11: 1100000 | V11: 1000000 | W11: 1100000 | X11: 1100000 | Y11: 1000000 | Z11: 1100000 | AA11: 1000000 | AB11: 1100000 | AC11: 1400000 | AD11: 2300000 | AE11: 2400000 | AF11: 2400000 | AG11: 2900000 | AH11: 3800000 | AI11: 5100000 | AJ11: 5400000 | AL11: 0 | AM11: 0 | AN11: 0 | AO11: 0 | AP11: 3800000 | AQ11: 4200000 | AR11: 4200000 | AS11: 4600000 | AT11: 10000000
A12: Net (gain) loss on equity investments | B12: 0 | C12: 0 | D12: 0 | E12: 0 | F12: 0 | G12: -7400000 | H12: 1700000 | I12: 1200000 | J12: -11000000 | K12: -6500000 | L12: 0 | M12: 0 | N12: 0 | O12: 0 | P12: 0 | Q12: 0 | R12: 0 | S12: -5000000 | T12: 0 | U12: 0 | V12: 0 | W12: 0 | X12: 0 | Y12: 0 | Z12: 0 | AA12: 0 | AB12: 0 | AC12: 200000 | AD12: 500000 | AE12: 0 | AF12: -1200000 | AG12: 0 | AH12: 0 | AI12: 0 | AJ12: -500000 | AL12: 0 | AM12: 0 | AN12: -4500000 | AO12: -17500000 | AP12: 0 | AQ12: -5000000 | AR12: 0 | AS12: 200000 | AT12: -700000
A13: Amortization of deferred commissions | B13: 2400000 | C13: 2900000 | D13: 3200000 | E13: 3600000 | F13: 3900000 | G13: 4200000 | H13: 4600000 | I13: 4800000 | J13: 5100000 | K13: 5700000 | L13: 6700000 | M13: 6900000 | N13: 7700000 | O13: 7700000 | P13: 8200000 | Q13: 8700000 | R13: 9000000 | S13: 9697000 | T13: 10209000 | U13: 10600000 | V13: 10694000 | W13: 10100000 | X13: 9400000 | Y13: 8400000 | Z13: 7500000 | AA13: 7400000 | AB13: 7700000 | AC13: 7700000 | AD13: 7200000 | AE13: 6800000 | AF13: 6200000 | AG13: 5700000 | AH13: 5500000 | AI13: 5200000 | AJ13: 5200000 | AL13: 6600000 | AM13: 12100000 | AN13: 17500000 | AO13: 24400000 | AP13: 32300000 | AQ13: 39506000 | AR13: 38600000 | AS13: 30300000 | AT13: 25900000
A14: Donation of common stock to charitable foundation | B14: 0 | C14: 0 | D14: 0 | E14: 0 | F14: 0 | G14: 0 | H14: 0 | I14: 0 | J14: 0 | K14: 0 | L14: 0 | M14: 0 | N14: 0 | O14: 0 | P14: 0 | Q14: 0 | R14: 0 | S14: 0 | T14: 0 | U14: 0 | V14: 0 | W14: 0 | X14: 0 | Y14: 0 | Z14: 0 | AA14: 0 | AB14: 0 | AC14: 0 | AD14: 0 | AE14: 0 | AF14: 0 | AG14: 0 | AH14: 0 | AI14: 0 | AJ14: 0 | AL14: 9400000 | AM14: 0 | AN14: 0 | AO14: 0 | AP14: 0 | AQ14: 0 | AR14: 0 | AS14: 0 | AT14: 0
A15: Non-cash operating lease expense (6) | R15: 17200000 | S15: 15700000 | T15: 15300000 | U15: 15600000 | V15: 12700000 | W15: 10800000 | X15: 10500000 | Y15: 9500000 | Z15: 9300000 | AA15: 8800000 | AB15: 9000000 | AC15: 8800000 | AD15: 8400000 | AE15: 8900000 | AF15: 11600000 | AG15: 8700000 | AH15: 9800000 | AI15: 10400000 | AJ15: 10600000 | AQ15: 63800000 | AR15: 43500000 | AS15: 35900000 | AT15: 37600000
A16: Deferred Taxes (6) | R16: 6400000 | S16: 7700000 | T16: 4400000 | U16: -414800000 | V16: 3400000 | W16: 4100000 | X16: 4200000 | Y16: 26700000 | Z16: -500000 | AA16: 1000000 | AB16: 2700000 | AC16: -8600000 | AD16: 1500000 | AE16: 500000 | AF16: 31400000 | AG16: 18300000 | AH16: 10400000 | AI16: 2500000 | AJ16: -2900000 | AQ16: -396300000 | AR16: 38400000 | AS16: -5400000 | AT16: 51700000
A17: Other | B17: -600000 | C17: -500000 | D17: 200000 | E17: -1000000 | F17: -4400000 | G17: -3200000 | H17: -700000 | I17: -3800000 | J17: 1200000 | K17: -1300000 | L17: -800000 | M17: -1700000 | N17: -900000 | O17: -5300000 | P17: 700000 | Q17: 1100000 | R17: 1800000 | S17: 1500000 | T17: 4200000 | U17: -8300000 | V17: 700000 | W17: -200000 | X17: 1800000 | Y17: -2900000 | Z17: 1200000 | AA17: -1100000 | AB17: -5300000 | AC17: 9000000 | AD17: -1900000 | AE17: -4000000 | AF17: 600000 | AG17: -5900000 | AH17: 200000 | AI17: 300000 | AJ17: -4600000 | AL17: -1700000 | AM17: -1900000 | AN17: -12100000 | AO17: -2600000 | AP17: -4400000 | AQ17: -800000 | AR17: -600000 | AS17: 3800000 | AT17: -11200000
A18: Changes in operating assets and liabilities:
A19: Trade and other receivables, net | B19: 3600000 | C19: -5500000 | D19: 2300000 | E19: -300000 | F19: -5100000 | G19: -3400000 | H19: -1000000 | I19: 2000000 | J19: -1200000 | K19: -7600000 | L19: -4100000 | M19: 7400000 | N19: -7100000 | O19: -1500000 | P19: 11200000 | Q19: -8800000 | R19: 4800000 | S19: -3000000 | T19: -4400000 | U19: -2900000 | V19: -3800000 | W19: -2700000 | X19: -4100000 | Y19: -3900000 | Z19: 1600000 | AA19: -500000 | AB19: -1500000 | AC19: -2000000 | AD19: -800000 | AE19: -2800000 | AF19: 1700000 | AG19: -4800000 | AH19: 4000000 | AI19: -2100000 | AJ19: 700000 | AL19: -14400000 | AM19: 100000 | AN19: -7500000 | AO19: -5500000 | AP19: -6200000 | AQ19: -5500000 | AR19: -14500000 | AS19: -2400000 | AT19: -6700000
A20: Prepaid expenses and other current assets | B20: -1500000 | C20: -32400000 | D20: -13400000 | E20: -600000 | F20: -14200000 | G20: -4300000 | H20: -7600000 | I20: 7900000 | J20: -14700000 | K20: -7700000 | L20: -1600000 | M20: -15400000 | N20: -12300000 | O20: -11500000 | P20: -24000000 | Q20: -10600000 | R20: -9700000 | S20: -16500000 | T20: 2600000 | U20: -26400000 | V20: -7200000 | W20: -10400000 | X20: -6400000 | Y20: -17100000 | Z20: -10700000 | AA20: -11000000 | AB20: 10500000 | AC20: 5800000 | AD20: -15300000 | AE20: -6000000 | AF20: -6700000 | AG20: 1800000 | AH20: -16400000 | AI20: 4500000 | AJ20: 1200000 | AL20: -18200000 | AM20: -47900000 | AN20: -18200000 | AO20: -39400000 | AP20: -58400000 | AQ20: -50000000 | AR20: -41100000 | AS20: -5400000 | AT20: -26200000
A21: Other assets | B21: -5700000 | C21: -11800000 | D21: 7100000 | E21: -800000 | F21: 11200000 | G21: 15000000 | H21: 15600000 | I21: 19400000 | J21: 17800000 | K21: 15300000 | L21: 22300000 | M21: 6600000 | N21: 17900000 | O21: 21200000 | P21: 26900000 | Q21: -15500000 | R21: 2500000 | S21: 2700000 | T21: -1300000 | U21: -13600000 | V21: 1100000 | W21: 2600000 | X21: 2800000 | Y21: 16800000 | Z21: 900000 | AA21: 1100000 | AB21: 1300000 | AC21: 3100000 | AD21: 1700000 | AE21: 2700000 | AF21: 700000 | AG21: 1800000 | AH21: -300000 | AI21: 2000000 | AJ21: 1300000 | AL21: -10600000 | AM21: -11200000 | AN21: 61200000 | AO21: 62000000 | AP21: 50500000 | AQ21: -9700000 | AR21: 23300000 | AS21: 6400000 | AT21: 6900000
A22: Accounts payable | B22: -2800000 | C22: -5700000 | D22: 4600000 | E22: 2200000 | F22: -5200000 | G22: 3400000 | H22: -600000 | I22: 8800000 | J22: -7800000 | K22: -5000000 | L22: 3900000 | M22: -11000000 | N22: 10100000 | O22: 2100000 | P22: -7500000 | Q22: 2900000 | R22: -1000000 | S22: 2400000 | T22: 8900000 | U22: 2700000 | V22: -300000 | W22: 7200000 | X22: 500000 | Y22: -6200000 | Z22: -8200000 | AA22: 6400000 | AB22: -2000000 | AC22: -700000 | AD22: -3500000 | AE22: 400000 | AF22: 800000 | AG22: -10300000 | AH22: 8100000 | AI22: 3400000 | AJ22: -1700000 | AL22: 16200000 | AM22: -1700000 | AN22: 6400000 | AO22: -19900000 | AP22: 7600000 | AQ22: 13000000 | AR22: 1200000 | AS22: -4500000 | AT22: -12600000
A23: Accrued and other current liabilities | B23: 8800000 | C23: 35700000 | D23: -3900000 | E23: -300000 | F23: 10000000 | G23: 500000 | H23: -1000000 | I23: 13500000 | J23: -9900000 | K23: -14800000 | L23: 2000000 | M23: 12900000 | N23: 6300000 | O23: -14600000 | P23: 11100000 | Q23: -37400000 | R23: 14700000 | S23: -5600000 | T23: -6700000 | U23: 2300000 | V23: 25600000 | W23: -33200000 | X23: -1700000 | Y23: -11500000 | Z23: -5500000 | AA23: -12500000 | AB23: 5700000 | AC23: -12400000 | AD23: -4100000 | AE23: -15900000 | AF23: 6200000 | AG23: -15600000 | AH23: 19500000 | AI23: -21100000 | AJ23: 14200000 | AL23: 34000000 | AM23: 40300000 | AN23: 23000000 | AO23: -9800000 | AP23: -34600000 | AQ23: 4700000 | AR23: -20800000 | AS23: -24700000 | AT23: -29400000
A24: Accrued compensation and benefits | B24: -26200000 | C24: 15300000 | D24: 18100000 | E24: 17800000 | F24: -45900000 | G24: 21100000 | H24: 21700000 | I24: 22200000 | J24: -59700000 | K24: 29400000 | L24: 22200000 | M24: 19800000 | N24: -70600000 | O24: 33000000 | P24: 30800000 | Q24: 30300000 | R24: -94500000 | S24: 29300000 | T24: 29300000 | U24: 29100000 | V24: -91600000 | W24: 26500000 | X24: 19900000 | Y24: 22600000 | Z24: -66300000 | AA24: 24300000 | AB24: 22800000 | AC24: 15100000 | AD24: -65100000 | AE24: 24900000 | AF24: 19500000 | AG24: 26600000 | AH24: -69300000 | AI24: 29200000 | AJ24: 23100000 | AL24: 14400000 | AM24: 25000000 | AN24: 19100000 | AO24: 11700000 | AP24: 23500000 | AQ24: -6800000 | AR24: -22600000 | AS24: -4100000 | AT24: 5900000
A25: Deferred revenue | B25: 26700000 | C25: 19700000 | D25: 14400000 | E25: 5600000 | F25: 18600000 | G25: 9400000 | H25: 26700000 | I25: 14000000 | J25: 22200000 | K25: 6500000 | L25: 14700000 | M25: 11700000 | N25: 28900000 | O25: 15500000 | P25: 12200000 | Q25: 3200000 | R25: 19500000 | S25: -200000 | T25: 6800000 | U25: -500000 | V25: 24700000 | W25: 6600000 | X25: 200000 | Y25: -9900000 | Z25: 16600000 | AA25: 0 | AB25: -2800000 | AC25: -12300000 | AD25: 11700000 | AE25: 3900000 | AF25: -2300000 | AG25: -11300000 | AH25: 18000000 | AI25: 1300000 | AJ25: -11000000 | AL25: 64300000 | AM25: 66400000 | AN25: 68700000 | AO25: 55100000 | AP25: 59800000 | AQ25: 25600000 | AR25: 21600000 | AS25: 1500000 | AT25: 2000000
A26: Other non-current liabilities | B26: 200000 | C26: 3200000 | D26: 500000 | E26: 8300000 | F26: -13200000 | G26: -14000000 | H26: -18400000 | I26: -16800000 | J26: -16500000 | K26: -9700000 | L26: -16400000 | M26: -30300000 | N26: -34100000 | O26: -26400000 | P26: -27600000 | Q26: -21100000 | R26: -2300000 | S26: -3600000 | T26: -7300000 | U26: -4700000 | V26: -4700000 | W26: -2900000 | X26: -3000000 | Y26: 9100000 | Z26: 1400000 | AA26: 1000000 | AB26: 1100000 | AC26: -9900000 | AD26: 2400000 | AE26: 700000 | AF26: 1900000 | AG26: 5100000 | AH26: 1500000 | AI26: 2200000 | AJ26: 2200000 | AL26: -4400000 | AM26: 12200000 | AN26: -62400000 | AO26: -72900000 | AP26: -109200000 | AQ26: -17900000 | AR26: -1500000 | AS26: -6400000 | AT26: 10100000
A27: Operating lease liabilities (7) | R27: -20300000 | S27: -23600000 | T27: -28700000 | U27: -13800000 | V27: -19900000 | W27: -15400000 | X27: -19100000 | Y27: -11000000 | Z27: -14600000 | AA27: -13800000 | AB27: -10400000 | AC27: -18200000 | AD27: -10700000 | AE27: -6900000 | AF27: -12700000 | AG27: -10500000 | AH27: -15000000 | AI27: -13900000 | AJ27: -12400000 | AQ27: -86400000 | AR27: -65400000 | AS27: -57000000 | AT27: -40800000
A28: Tenant improvement allowance reimbursement | B28: 0 | C28: 0 | D28: 0 | E28: 0 | F28: 13800000 | G28: 14700000 | H28: 16900000 | I28: 9900000 | J28: 9200000 | K28: 7400000 | L28: 2700000 | M28: 3200000 | N28: 1600000 | O28: 0 | P28: 1200000 | Q28: 2300000 | R28: 900000 | S28: 2400000 | T28: 4900000 | U28: 500000 | V28: 0 | W28: 0 | X28: 100000 | Y28: 1000000 | Z28: 0 | AA28: 0 | AB28: 0 | AC28: 0 | AD28: 0 | AE28: 0 | AF28: 0 | AG28: 0 | AH28: 0 | AI28: 0 | AJ28: 0 | AL28: 0 | AM28: 0 | AN28: 55300000 | AO28: 22500000 | AP28: 5100000 | AQ28: 8700000 | AR28: 1100000 | AS28: 0 | AT28: 0
A29: Cash paid for lease termination | B29: 0 | C29: 0 | D29: 0 | E29: 0 | F29: 0 | G29: 0 | H29: 0 | I29: 0 | J29: 0 | K29: 0 | L29: 0 | M29: 0 | N29: 0 | O29: 0 | P29: 0 | Q29: -32000000 | R29: 0 | S29: 0 | T29: 0 | U29: 0 | V29: 0 | W29: 0 | X29: 0 | Y29: -28100000 | Z29: 0 | AA29: -14900000 | AB29: 0 | AC29: 0 | AD29: -36000000 | AE29: 0 | AF29: 0 | AG29: 0 | AH29: 0 | AI29: 0 | AJ29: 0 | AL29: 0 | AM29: 0 | AN29: 0 | AO29: 0 | AP29: -32000000 | AQ29: 0 | AR29: -28100000 | AS29: -14900000 | AT29: -36000000
A30: Net cash provided by operating activities | B30: =SUM(B6:B29) -> 61800000 | C30: =SUM(C6:C29) -> 111900000 | D30: =SUM(D6:D29) -> 128000000 | E30: =SUM(E6:E29) -> 123700000 | F30: =SUM(F6:F29) -> 63200000 | G30: =SUM(G6:G29) -> 128800000 | H30: =SUM(H6:H29) -> 149700000 | I30: =SUM(I6:I29) -> 186800000 | ... M30: =SUM(M6:M29) -> 170700000 | N30: =SUM(N6:N28) -> 115700000 | O30: =SUM(O6:O28) -> 219900000 | P30: =SUM(P6:P28) -> 231500000 | Q30: =SUM(Q6:Q29) -> 162700000 | R30: =SUM(R6:R29) -> 141400000 | S30: =SUM(S6:S29) -> 209870000 | T30: =SUM(T6:T29) -> 251442000 | U30: =SUM(U6:U29) -> 194600000 | V30: =SUM(V6:V29) -> 139894000 | W30: =SUM(W6:W29) -> 187600000 | X30: =SUM(X6:X29) -> 255900000 | ... AJ30: =SUM(AJ6:AJ29) -> 259200000 | AL30: 330300000 | AM30: 425400000 | AN30: 528500000 | AO30: 570800000 | AP30: 729800000 | AQ30: 797312000 | AR30: 783700000 | AS30: =SUM(AS6:AS29) -> 894100000 | AT30: =SUM(AT6:AT29) -> 951800000
A31: Cash flow from investing activities
A32: Capital expenditures | B32: -9900000 | C32: -9700000 | D32: -8000000 | E32: -35400000 | F32: -29700000 | G32: -33700000 | H32: -47200000 | I32: -25500000 | J32: -27800000 | K32: -26100000 | L32: -13900000 | M32: -12300000 | N32: -6900000 | O32: -3900000 | P32: -10000000 | Q32: -1300000 | R32: -10700000 | S32: -4000000 | T32: -6200000 | U32: -12900000 | V32: -1900000 | W32: -3000000 | X32: -9400000 | Y32: -10000000 | Z32: -9200000 | AA32: -5900000 | AB32: -4100000 | AC32: -3300000 | AD32: -100000 | AE32: -2000000 | AF32: -8400000 | AG32: -10500000 | AH32: -1200000 | AI32: -3300000 | AJ32: -7400000 | AL32: -25300000 | AM32: -63000000 | AN32: -136100000 | AO32: -80100000 | AP32: -22100000 | AQ32: -33800000 | AR32: -24300000 | AS32: -22500000 | AT32: -21000000
A33: Business combinations, net of cash acquired | B33: 0 | C33: 0 | D33: 0 | E33: 0 | F33: -172100000 | G33: 500000 | H33: 0 | I33: -2300000 | J33: 0 | K33: 0 | L33: 0 | M33: 0 | N33: -125400000 | O33: 0 | P33: 100000 | Q33: -14700000 | R33: 0 | S33: 0 | T33: 0 | U33: -75400000 | V33: 0 | W33: 0 | X33: 0 | Y33: 0 | Z33: 0 | AA33: -21100000 | AB33: -36700000 | AC33: 0 | AD33: 0 | AE33: -8400000 | AF33: -4700000 | AG33: 0 | AH33: 0 | AI33: 0 | AJ33: 0 | AL33: 0 | AM33: 0 | AN33: -173900000 | AO33: 0 | AP33: -140000000 | AQ33: -75400000 | AR33: 0 | AS33: -57800000 | AT33: -13100000
A34: Purchases of intangible assets(3) | B34: -2500000 | C34: 0 | D34: -400000 | E34: -100000 | F34: 0 | G34: 0 | H34: 0 | I34: 0 | J34: 0 | K34: 0 | L34: 0 | M34: 0 | N34: 0 | O34: 0 | P34: 0 | Q34: 0 | R34: -400000 | S34: -700000 | T34: 0 | U34: 0 | V34: 0 | W34: -300000 | X34: 0 | Y34: 0 | Z34: -200000 | AA34: 0 | AB34: 0 | AC34: 0 | AD34: -400000 | AE34: 0 | AF34: 0 | AG34: 0 | AH34: 0 | AI34: -3300000 | AJ34: 0 | AL34: -800000 | AM34: -3000000 | AN34: 0 | AO34: 0 | AP34: 0 | AQ34: -1100000 | AR34: -300000 | AS34: -200000 | AT34: -400000
A35: Purchases of short-term investments | B35: -180800000 | C35: -315100000 | D35: -168400000 | E35: -191100000 | F35: -153000000 | G35: -236700000 | H35: -193000000 | I35: -192700000 | J35: -120500000 | K35: -308700000 | L35: -111900000 | M35: -215000000 | N35: -513900000 | O35: -179800000 | P35: -366900000 | Q35: -77800000 | R35: -81600000 | S35: -219900000 | T35: -138400000 | U35: -131300000 | V35: -30900000 | W35: -17000000 | X35: -64700000 | Y35: -96100000 | Z35: -62300000 | AA35: 0 | AB35: 0 | AC35: 0 | AD35: 0 | AE35: 0 | AF35: 0 | AG35: 0 | AH35: 0 | AI35: 0 | AJ35: 0 | AL35: 0 | AM35: -855400000 | AN35: -775400000 | AO35: -756100000 | AP35: -1138400000 | AQ35: -571200000 | AR35: -208700000 | AS35: -62300000 | AT35: 0
A36: Proceeds from sales of short-term investments | B36: 0 | C36: 3100000 | D36: 58500000 | E36: 9600000 | F36: 110200000 | G36: 70800000 | H36: 160000000 | I36: 115100000 | J36: 65100000 | K36: 80200000 | L36: 37700000 | M36: 15800000 | N36: 114200000 | O36: 57000000 | P36: 99100000 | Q36: 23300000 | R36: 51800000 | S36: 64800000 | T36: 37600000 | U36: 59500000 | V36: 152700000 | W36: 178900000 | X36: 4200000 | Y36: 16600000 | Z36: 55600000 | AA36: 3000000 | AB36: 105700000 | AC36: 77400000 | AD36: 0 | AE36: 0 | AF36: 0 | AG36: 0 | AH36: 200000 | AI36: 0 | AJ36: 0 | AL36: 0 | AM36: 71200000 | AN36: 456100000 | AO36: 198800000 | AP36: 293600000 | AQ36: 213700000 | AR36: 352400000 | AS36: 241700000 | AT36: 0
A37: Proceeds from maturities of short-term investments | B37: 0 | C37: 16400000 | D37: 85500000 | E37: 110500000 | F37: 66600000 | G37: 95000000 | H37: 75100000 | I37: 58100000 | J37: 67700000 | K37: 71200000 | L37: 83000000 | M37: 164800000 | N37: 129900000 | O37: 134100000 | P37: 83900000 | Q37: 100800000 | R37: 137500000 | S37: 101700000 | T37: 100600000 | U37: 49300000 | V37: 77600000 | W37: 41800000 | X37: 77700000 | Y37: 55100000 | Z37: 123900000 | AA37: 82600000 | AB37: 76700000 | AC37: 30500000 | AD37: 30000000 | AE37: 21000000 | AF37: 25100000 | AG37: 48700000 | AH37: 65400000 | AI37: 23900000 | AJ37: 20200000 | AL37: 0 | AM37: 212400000 | AN37: 294800000 | AO37: 386700000 | AP37: 448700000 | AQ37: 389100000 | AR37: 252200000 | AS37: 313700000 | AT37: 124800000
A38: Proceeds from sales of equity investments | B38: 0 | C38: 0 | D38: 0 | E38: 0 | F38: 0 | G38: 0 | H38: 0 | I38: 0 | J38: 0 | K38: 0 | L38: 0 | M38: 0 | N38: 0 | O38: 0 | P38: 0 | Q38: 0 | R38: 0 | S38: 0 | T38: 10600000 | U38: 0 | V38: 0 | W38: 0 | X38: 0 | Y38: 0 | Z38: 0 | AA38: 0 | AB38: 0 | AC38: 0 | AD38: 0 | AE38: 0 | AF38: 0 | AG38: 1700000 | AH38: 0 | AI38: 0 | AJ38: 0 | AQ38: 10600000 | AR38: 0 | AS38: 0 | AT38: 1700000
A39: Cash receipts from equipment rebates(10) | R39: 1700000 | S39: 2700000 | T39: 2600000 | U39: 2400000 | V39: 3400000 | W39: 5500000 | X39: 2400000 | Y39: 13500000 | Z39: 6900000 | AA39: 5200000 | AB39: 10300000 | AC39: 9900000 | AD39: 6900000 | AE39: 2700000 | AF39: 4600000 | AG39: 2900000 | AH39: 900000 | AI39: 600000 | AJ39: 1400000 | AQ39: 9400000 | AR39: 24800000 | AS39: 32300000 | AT39: 17100000
A40: Other | B40: 100000 | C40: 800000 | D40: 1400000 | E40: 1700000 | F40: 4700000 | G40: 6900000 | H40: -3200000 | I40: 6100000 | J40: 3800000 | K40: 5500000 | L40: 3100000 | M40: 4700000 | N40: 3300000 | O40: 14200000 | P40: 10900000 | Q40: 5000000 | R40: 2700000 | S40: 3500000 | T40: 700000 | U40: 3300000 | V40: -100000 | W40: 200000 | X40: 100000 | Y40: -1100000 | Z40: -1000000 | AA40: -600000 | AB40: 1200000 | AC40: -700000 | AD40: -600000 | AE40: -900000 | AF40: 1200000 | AG40: 3100000 | AH40: 1600000 | AI40: 1300000 | AJ40: 4100000 | AL40: 2200000 | AM40: 4000000 | AN40: 14500000 | AO40: 17100000 | AP40: 33400000 | AQ40: 10200000 | AR40: -900000 | AS40: -1100000 | AT40: 2800000
...

Sheet Paying Users
A1: Dropbox, Inc.
